BEGIN:VCALENDAR
VERSION:2.0
PRODID:-//wp-events-plugin.com//7.2.3.1//EN
TZID:Europe/Paris
X-WR-TIMEZONE:Europe/Paris
BEGIN:VEVENT
UID:0-21@tech-imago.fr
DTSTART;TZID=Europe/Paris:20231013T000000
DTEND;TZID=Europe/Paris:20231016T000000
DTSTAMP:20231009T145358Z
URL:https://tech-imago.fr/services/agenda/tech-imago-aux-jfr-2023/
SUMMARY:Tech Imago aux JFR 2023
DESCRIPTION:A l’occasion des JFR 2023\, Tech Imago sera présent avec son
  stand au Palais des congrès de Paris-Porte Maillot (stand L3 Hall Passy 
 niveau 1) pour fêter son lancement ainsi que la refonte de Docteur Imago.
 \n\nRendez-vous sur notre stand n° L3 Hall Passy Niveau 1 pendant toutes 
 les JFR 2023.
ATTACH;FMTTYPE=image/jpeg:https://admin.docteurimago.fr/app/uploads/sites/
 3/2023/10/Ambiance_JFR_2021-scaled.jpg
CATEGORIES:RDV de Tech Imago
LOCATION:Palais des congrès de Paris\, 2 place de la Porte Maillot\, Paris
 \, France\, 75017\, Île-de-France\, France
X-APPLE-STRUCTURED-LOCATION;VALUE=URI;X-ADDRESS=2 place de la Porte Maillot
 \, Paris\, France\, 75017\, Île-de-France\, France;X-APPLE-RADIUS=100;X-T
 ITLE=Palais des congrès de Paris:geo:0,0
END:VEVENT
BEGIN:VTIMEZONE
TZID:Europe/Paris
X-LIC-LOCATION:Europe/Paris
BEGIN:DAYLIGHT
DTSTART:20230326T030000
TZOFFSETFROM:+0100
TZOFFSETTO:+0200
TZNAME:CEST
END:DAYLIGHT
END:VTIMEZONE
END:VCALENDAR