BEGIN:VCALENDAR
VERSION:2.0
PRODID:-//wp-events-plugin.com//7.2.3.1//EN
TZID:Europe/Paris
X-WR-TIMEZONE:Europe/Paris
BEGIN:VEVENT
UID:0-60@tech-imago.fr
DTSTART;TZID=Europe/Paris:20250911T180000
DTEND;TZID=Europe/Paris:20250911T191500
DTSTAMP:20250915T114607Z
URL:https://tech-imago.fr/services/agenda/rdv-de-tech-imago-place-de-la-te
 lemanipulation/
SUMMARY:RDV de Tech Imago : Quelle place pour la télémanipulation ?
DESCRIPTION:Plusieurs solutions sont proposées pour permettre aux manipula
 teurs radio de gérer un ou plusieurs équipements lourds d'imagerie médi
 cale à distance. C'est le concept de la télémanipulation. Il est toutef
 ois largement décrié par la communauté des manipulateurs radio\, notamm
 ent avec le risque de se déconnecter du lien physique avec les patients. 
 Cet événement organisé par Tech Imago souhaite faire la lumière sur ce
 s nouveaux outils et leur incidence dans le quotidien des manipulateurs ra
 dio.
ATTACH;FMTTYPE=image/jpeg:https://admin.docteurimago.fr/app/uploads/sites/
 3/2025/07/Image-illustration-telemanipulation.jpg
CATEGORIES:RDV de Tech Imago
END:VEVENT
BEGIN:VTIMEZONE
TZID:Europe/Paris
X-LIC-LOCATION:Europe/Paris
BEGIN:DAYLIGHT
DTSTART:20250330T030000
TZOFFSETFROM:+0100
TZOFFSETTO:+0200
TZNAME:CEST
END:DAYLIGHT
END:VTIMEZONE
END:VCALENDAR