BEGIN:VCALENDAR
VERSION:2.0
PRODID:-//wp-events-plugin.com//7.2.3.1//EN
TZID:Europe/Paris
X-WR-TIMEZONE:Europe/Paris
BEGIN:VEVENT
UID:0-67@tech-imago.fr
DTSTART;TZID=Europe/Paris:20260610T000000
DTEND;TZID=Europe/Paris:20260611T000000
DTSTAMP:20260324T150057Z
URL:https://tech-imago.fr/services/agenda/journees-techniques-de-la-sfrp/
SUMMARY:Journées techniques de la SFRP
DESCRIPTION:Les Journées techniques de la Société française de radiopro
 tection (SFRP) auront lieu les 10 et 11 juin 2026 dans l'auditorium ASNR 
 à Fontenay-aux Roses (92). Programme et inscriptions sur le site de la SF
 RP.
CATEGORIES:Autres événements
END:VEVENT
BEGIN:VTIMEZONE
TZID:Europe/Paris
X-LIC-LOCATION:Europe/Paris
BEGIN:DAYLIGHT
DTSTART:20260329T030000
TZOFFSETFROM:+0100
TZOFFSETTO:+0200
TZNAME:CEST
END:DAYLIGHT
END:VTIMEZONE
END:VCALENDAR