BEGIN:VCALENDAR
VERSION:2.0
PRODID:-//wp-events-plugin.com//7.2.3.1//EN
TZID:Europe/Paris
X-WR-TIMEZONE:Europe/Paris
BEGIN:VEVENT
UID:0-66@tech-imago.fr
DTSTART;TZID=Europe/Paris;VALUE=DATE:20261106
DTEND;TZID=Europe/Paris;VALUE=DATE:20261108
DTSTAMP:20260210T152025Z
URL:https://tech-imago.fr/services/agenda/journees-scientifiques-dimagerie
 -interventionnelle-les-6-et-7-novembre/
SUMMARY:Journées Scientifiques d'Imagerie Interventionnelle les 6 et 7 Nov
 embre
DESCRIPTION:Les Journées scientifiques d'imagerie interventionnelle de l'A
 FPPE auront lieu les 6 et 7 Novembre 2026 à Nancy.
LOCATION:Centre Prouvé\,  1 Pl. de la République\, Nancy\, 54000\, France
X-APPLE-STRUCTURED-LOCATION;VALUE=URI;X-ADDRESS= 1 Pl. de la République\, 
 Nancy\, 54000\, France;X-APPLE-RADIUS=100;X-TITLE=Centre Prouvé:geo:0,0
END:VEVENT
BEGIN:VTIMEZONE
TZID:Europe/Paris
X-LIC-LOCATION:Europe/Paris
BEGIN:STANDARD
DTSTART:20261025T020000
TZOFFSETFROM:+0200
TZOFFSETTO:+0100
TZNAME:CET
END:STANDARD
END:VTIMEZONE
END:VCALENDAR