BEGIN:VCALENDAR
VERSION:2.0
PRODID:-//wp-events-plugin.com//7.2.3.1//EN
TZID:Europe/Paris
X-WR-TIMEZONE:Europe/Paris
BEGIN:VEVENT
UID:0-45@tech-imago.fr
DTSTART;TZID=Europe/Paris;VALUE=DATE:20250125
DTEND;TZID=Europe/Paris;VALUE=DATE:20250127
DTSTAMP:20250129T120632Z
URL:https://tech-imago.fr/services/agenda/journees-francophones-de-scanner
 -afppe-2015/
SUMMARY:Journées francophones de scanner AFPPE 2025
DESCRIPTION:Les 11es Journées francophones de scanner de l'Association fra
 nçaise du personnel paramédical d'électroradiologie (AFPPE) se tiendron
 t les 25 et 26 janvier 2025 à Reims. Inscriptions et programme sur le sit
 e de l'AFPPE.
CATEGORIES:Congrès
LOCATION:Centre de congrès de Reims\, 12 avenur du Général-Leclerc\, Rei
 ms\, Marne\, 51000\, Grand-Est\, France
X-APPLE-STRUCTURED-LOCATION;VALUE=URI;X-ADDRESS=12 avenur du Général-Lecl
 erc\, Reims\, Marne\, 51000\, Grand-Est\, France;X-APPLE-RADIUS=100;X-TITL
 E=Centre de congrès de Reims:geo:0,0
END:VEVENT
BEGIN:VTIMEZONE
TZID:Europe/Paris
X-LIC-LOCATION:Europe/Paris
BEGIN:STANDARD
DTSTART:20241027T020000
TZOFFSETFROM:+0200
TZOFFSETTO:+0100
TZNAME:CET
END:STANDARD
END:VTIMEZONE
END:VCALENDAR