BEGIN:VCALENDAR
VERSION:2.0
PRODID:-//wp-events-plugin.com//7.2.3.1//EN
TZID:Europe/Paris
X-WR-TIMEZONE:Europe/Paris
BEGIN:VEVENT
UID:0-44@tech-imago.fr
DTSTART;TZID=Europe/Paris;VALUE=DATE:20251003
DTEND;TZID=Europe/Paris;VALUE=DATE:20251007
DTSTAMP:20250904T103625Z
URL:https://tech-imago.fr/services/agenda/journees-francophones-de-radiolo
 gie-2025/
SUMMARY:Journées francophones de radiologie 2025
DESCRIPTION:Les Journées francophones de radiologie diagnostique et interv
 entionnelle 2025 (JFR)\, organisées par la Société française de radiol
 ogie\, se tiendront du 3 au 6 octobre 2025\, à Paris. Renseignements sur 
 le site officiel.
CATEGORIES:Congrès
LOCATION:Palais des congrès de Paris\, 2 place de la Porte Maillot\, Paris
 \, France\, 75017\, Île-de-France\, France
X-APPLE-STRUCTURED-LOCATION;VALUE=URI;X-ADDRESS=2 place de la Porte Maillot
 \, Paris\, France\, 75017\, Île-de-France\, France;X-APPLE-RADIUS=100;X-T
 ITLE=Palais des congrès de Paris:geo:0,0
END:VEVENT
BEGIN:VTIMEZONE
TZID:Europe/Paris
X-LIC-LOCATION:Europe/Paris
BEGIN:DAYLIGHT
DTSTART:20250330T030000
TZOFFSETFROM:+0100
TZOFFSETTO:+0200
TZNAME:CEST
END:DAYLIGHT
END:VTIMEZONE
END:VCALENDAR