BEGIN:VCALENDAR
VERSION:2.0
PRODID:-//wp-events-plugin.com//7.2.3.1//EN
TZID:Europe/Paris
X-WR-TIMEZONE:Europe/Paris
BEGIN:VEVENT
UID:0-65@tech-imago.fr
DTSTART;TZID=Europe/Paris;VALUE=DATE:20260917
DTEND;TZID=Europe/Paris;VALUE=DATE:20260919
DTSTAMP:20260210T151345Z
URL:https://tech-imago.fr/services/agenda/journees-cadres-afppe-2026/
SUMMARY:Journées Cadres AFPPE 2026
DESCRIPTION:Les journées cadres de l'AFFPE de 2026 auront lieu les 17 et 1
 8 septembre 2026 à Arras (62). Un focus sera fait sur le management et la
  radiologie.
CATEGORIES:Congrès
LOCATION:Hôtel Mercure Arras Centre Gare\, 58 Bd Carnot\, Arras\, France
X-APPLE-STRUCTURED-LOCATION;VALUE=URI;X-ADDRESS=58 Bd Carnot\, Arras\, Fran
 ce;X-APPLE-RADIUS=100;X-TITLE=Hôtel Mercure Arras Centre Gare:geo:0,0
END:VEVENT
BEGIN:VTIMEZONE
TZID:Europe/Paris
X-LIC-LOCATION:Europe/Paris
BEGIN:DAYLIGHT
DTSTART:20260329T030000
TZOFFSETFROM:+0100
TZOFFSETTO:+0200
TZNAME:CEST
END:DAYLIGHT
END:VTIMEZONE
END:VCALENDAR