BEGIN:VCALENDAR
VERSION:2.0
PRODID:-//wp-events-plugin.com//7.2.3.1//EN
TZID:Europe/Paris
X-WR-TIMEZONE:Europe/Paris
BEGIN:VEVENT
UID:0-50@tech-imago.fr
DTSTART;TZID=Asia/Dubai;VALUE=DATE:20261027
DTEND;TZID=Asia/Dubai;VALUE=DATE:20261030
DTSTAMP:20250227T172956Z
URL:https://tech-imago.fr/services/agenda/congres-mondial-des-manipulateur
 s-delectroradiologie-medicale/
SUMMARY:Congrès mondial des manipulateurs d'électroradiologie médicale
DESCRIPTION:Le congrès mondial des manipulateurs d'électroradiologie méd
 icale\, organisé par l'International society of radiographers and radiolo
 gical technologists (ISSRT) se tiendra du 27 au 29 octobre 2026 à Dubaï\
 , aux Émirats Arabes Unis. Les soumissions de résumés sont ouvertes sur
  le site de l'événement.
CATEGORIES:Congrès
END:VEVENT
BEGIN:VTIMEZONE
TZID:Asia/Dubai
X-LIC-LOCATION:Asia/Dubai
BEGIN:STANDARD
DTSTART:20251027T000000
TZOFFSETFROM:+0400
TZOFFSETTO:+0400
TZNAME:+04
END:STANDARD
END:VTIMEZONE
END:VCALENDAR