BEGIN:VCALENDAR
VERSION:2.0
PRODID:-//wp-events-plugin.com//7.2.3.1//EN
TZID:Europe/Paris
X-WR-TIMEZONE:Europe/Paris
BEGIN:VEVENT
UID:0-58@tech-imago.fr
DTSTART;TZID=Europe/Paris;VALUE=DATE:20260304
DTEND;TZID=Europe/Paris;VALUE=DATE:20260309
DTSTAMP:20250428T145824Z
URL:https://tech-imago.fr/services/agenda/congres-europeen-de-radiologie-2
 026/
SUMMARY:Congrès européen de radiologie 2026
DESCRIPTION:Le prochain Congrès européen de radiologie (European Congress
  of Radiology - ECR) organisé par la Société européenne de radiologie 
 (ESR)\, se tiendra du 4 au 8 mars 2026 à Vienne. Les sessions seront auss
 i visibles en ligne. Une partie du programme sera destinée aux manipulate
 urs. Renseignements et inscriptions sur le site de l'ESR.
CATEGORIES:Congrès
LOCATION:Palais des congrès de Vienne\, Austria Center Vienna Bruno-Kreisk
 y-Platz 1\, Vienne\, 1220\, Autriche
X-APPLE-STRUCTURED-LOCATION;VALUE=URI;X-ADDRESS=Austria Center Vienna Bruno
 -Kreisky-Platz 1\, Vienne\, 1220\, Autriche;X-APPLE-RADIUS=100;X-TITLE=Pal
 ais des congrès de Vienne:geo:0,0
END:VEVENT
BEGIN:VTIMEZONE
TZID:Europe/Paris
X-LIC-LOCATION:Europe/Paris
BEGIN:STANDARD
DTSTART:20251026T020000
TZOFFSETFROM:+0200
TZOFFSETTO:+0100
TZNAME:CET
END:STANDARD
END:VTIMEZONE
END:VCALENDAR