BEGIN:VCALENDAR
VERSION:2.0
PRODID:-//wp-events-plugin.com//7.2.3.1//EN
TZID:Europe/Paris
X-WR-TIMEZONE:Europe/Paris
BEGIN:VEVENT
UID:0-18@tech-imago.fr
DTSTART;TZID=Europe/Vienna;VALUE=DATE:20240228
DTEND;TZID=Europe/Vienna;VALUE=DATE:20240304
DTSTAMP:20231004T121039Z
URL:https://tech-imago.fr/services/agenda/congres-europeen-de-radiologie-2
 024/
SUMMARY:Congrès européen de radiologie 2024
DESCRIPTION:L'édition 2024 du Congrès européen de radiologie (ECR) aura 
 lieu du 28 février au 3 mars à Vienne\, en Autriche. Renseignements et i
 nscriptions sur le site de l'événement.
CATEGORIES:Congrès
LOCATION:Vienna International Center\, Wagramer Str. 5\, Vienne\, 1400\, Au
 triche
X-APPLE-STRUCTURED-LOCATION;VALUE=URI;X-ADDRESS=Wagramer Str. 5\, Vienne\, 
 1400\, Autriche;X-APPLE-RADIUS=100;X-TITLE=Vienna International Center:geo
 :0,0
END:VEVENT
BEGIN:VTIMEZONE
TZID:Europe/Vienna
X-LIC-LOCATION:Europe/Vienna
BEGIN:STANDARD
DTSTART:20231029T020000
TZOFFSETFROM:+0200
TZOFFSETTO:+0100
TZNAME:CET
END:STANDARD
END:VTIMEZONE
END:VCALENDAR