BEGIN:VCALENDAR
VERSION:2.0
PRODID:-//wp-events-plugin.com//7.2.3.1//EN
TZID:Europe/Paris
X-WR-TIMEZONE:Europe/Paris
BEGIN:VEVENT
UID:0-38@tech-imago.fr
DTSTART;TZID=Europe/Paris;VALUE=DATE:20250314
DTEND;TZID=Europe/Paris;VALUE=DATE:20250316
DTSTAMP:20250205T111917Z
URL:https://tech-imago.fr/services/agenda/congres-de-lassociation-multidis
 ciplinaire-dechographie-2025/
SUMMARY:Congrès de l'association multidisciplinaire d’échographie 2025
DESCRIPTION:Le premier congrès de l’association multidisciplinaire d’
 échographie (AME) se tiendra les 14 et 15 mars 2025 à Paris\, annonce l'
 AME.
CATEGORIES:Congrès
LOCATION:FIAP\,     30 rue Cabanis\, Paris\, 75014\, France
X-APPLE-STRUCTURED-LOCATION;VALUE=URI;X-ADDRESS=    30 rue Cabanis\, Paris\
 , 75014\, France;X-APPLE-RADIUS=100;X-TITLE=FIAP:geo:0,0
END:VEVENT
BEGIN:VTIMEZONE
TZID:Europe/Paris
X-LIC-LOCATION:Europe/Paris
BEGIN:STANDARD
DTSTART:20241027T020000
TZOFFSETFROM:+0200
TZOFFSETTO:+0100
TZNAME:CET
END:STANDARD
END:VTIMEZONE
END:VCALENDAR