BEGIN:VCALENDAR
VERSION:2.0
PRODID:-//wp-events-plugin.com//7.2.3.1//EN
TZID:Europe/Paris
X-WR-TIMEZONE:Europe/Paris
BEGIN:VEVENT
UID:0-28@tech-imago.fr
DTSTART;TZID=Europe/Paris;VALUE=DATE:20240614
DTEND;TZID=Europe/Paris;VALUE=DATE:20240615
DTSTAMP:20240424T101717Z
URL:https://tech-imago.fr/services/agenda/congres-de-la-societe-dimagerie-
 de-la-femme/
SUMMARY:Journée manipulateur du congrès de la Société d'imagerie de la 
 femme
DESCRIPTION:La Société d'imagerie de la femme (SIFEM) tiendra son congrè
 s 2024 du 13 au 15 juin à la cité des congrès de Nantes (44). Une Journ
 ée dédiée aux manipulateurs radio est organisée le vendredi 14 juin 20
 24 par l'AFPPE. Renseignements et inscriptions sur ce lien.
CATEGORIES:Congrès
LOCATION:Cité des congrès de Nantes\, 5 Rue de Valmy\, Nantes\, Loire-Atl
 antique\, 44000\, Pays-de-la-Loire\, France
X-APPLE-STRUCTURED-LOCATION;VALUE=URI;X-ADDRESS=5 Rue de Valmy\, Nantes\, L
 oire-Atlantique\, 44000\, Pays-de-la-Loire\, France;X-APPLE-RADIUS=100;X-T
 ITLE=Cité des congrès de Nantes:geo:0,0
END:VEVENT
BEGIN:VTIMEZONE
TZID:Europe/Paris
X-LIC-LOCATION:Europe/Paris
BEGIN:DAYLIGHT
DTSTART:20240331T030000
TZOFFSETFROM:+0100
TZOFFSETTO:+0200
TZNAME:CEST
END:DAYLIGHT
END:VTIMEZONE
END:VCALENDAR