BEGIN:VCALENDAR
VERSION:2.0
PRODID:-//wp-events-plugin.com//7.2.3.1//EN
TZID:Europe/Paris
X-WR-TIMEZONE:Europe/Paris
BEGIN:VEVENT
UID:0-63@tech-imago.fr
DTSTART;TZID=Europe/Paris;VALUE=DATE:20260604
DTEND;TZID=Europe/Paris;VALUE=DATE:20260607
DTSTAMP:20251013T095315Z
URL:https://tech-imago.fr/services/agenda/congres-de-la-sifem-2026/
SUMMARY:Congrès de la SIFEM 2026
DESCRIPTION:Le congrès de la Société d’imagerie de la femme (SIFEM) 20
 26 aura lieu à Montpellier du 4 au 6 juin\, présidé par Emma Pagès-Bou
 ic et Patrice Taourel.
CATEGORIES:Congrès
LOCATION:Corum\, Esplanade Charles-de-Gaulle\, Montpellier\, Hérault\, 340
 00\, Occitanie\, France
X-APPLE-STRUCTURED-LOCATION;VALUE=URI;X-ADDRESS=Esplanade Charles-de-Gaulle
 \, Montpellier\, Hérault\, 34000\, Occitanie\, France;X-APPLE-RADIUS=100;
 X-TITLE=Corum:geo:0,0
END:VEVENT
BEGIN:VTIMEZONE
TZID:Europe/Paris
X-LIC-LOCATION:Europe/Paris
BEGIN:DAYLIGHT
DTSTART:20260329T030000
TZOFFSETFROM:+0100
TZOFFSETTO:+0200
TZNAME:CEST
END:DAYLIGHT
END:VTIMEZONE
END:VCALENDAR