BEGIN:VCALENDAR
VERSION:2.0
PRODID:-//wp-events-plugin.com//7.2.3.1//EN
TZID:Europe/Paris
X-WR-TIMEZONE:Europe/Paris
BEGIN:VEVENT
UID:0-24@tech-imago.fr
DTSTART;TZID=Europe/Paris:20231121T173000
DTEND;TZID=Europe/Paris:20231121T181500
DTSTAMP:20231121T175826Z
URL:https://tech-imago.fr/services/agenda/a-la-decouverte-de-votre-nouveau
 -media/
SUMMARY:A la découverte de votre nouveau média
DESCRIPTION:Toute l'équipe de Tech Imago vous donne rendez-vous afin de vo
 us faire découvrir toute la richesse de votre nouveau média destiné aux
  manipulateurs radio et aux cadres de santé en imagerie médicale\, méde
 cine nucléaire et radiothérapie.
ATTACH;FMTTYPE=image/jpeg:https://admin.docteurimago.fr/app/uploads/sites/
 3/2023/09/Reportage_CHUM_scanner-4-scaled.jpg
CATEGORIES:RDV de Tech Imago
END:VEVENT
BEGIN:VTIMEZONE
TZID:Europe/Paris
X-LIC-LOCATION:Europe/Paris
BEGIN:STANDARD
DTSTART:20231029T020000
TZOFFSETFROM:+0200
TZOFFSETTO:+0100
TZNAME:CET
END:STANDARD
END:VTIMEZONE
END:VCALENDAR