BEGIN:VCALENDAR
VERSION:2.0
PRODID:-//wp-events-plugin.com//7.2.3.1//EN
TZID:Europe/Paris
X-WR-TIMEZONE:Europe/Paris
BEGIN:VEVENT
UID:0-25@tech-imago.fr
DTSTART;TZID=Europe/Paris;VALUE=DATE:20240524
DTEND;TZID=Europe/Paris;VALUE=DATE:20240526
DTSTAMP:20240424T101128Z
URL:https://tech-imago.fr/services/agenda/63es-journees-scientifiques-echo
 -radiologie-interventionnelle/
SUMMARY:63es Journées scientifiques - Echo - Radiologie interventionnelle
DESCRIPTION:Les 63èmes Journées scientifiques - Echo - Radiologie interve
 ntionnelle auront lieu les 24 et 25 mai 2024 au Disney Hotel New York (77)
 \, annonce l'AFPPE.
CATEGORIES:Congrès
LOCATION:Disney Hotel New York\, Av. René Goscinny\, CHESSY\, 77700\, Fran
 ce
X-APPLE-STRUCTURED-LOCATION;VALUE=URI;X-ADDRESS=Av. René Goscinny\, CHESSY
 \, 77700\, France;X-APPLE-RADIUS=100;X-TITLE=Disney Hotel New York:geo:0,0
END:VEVENT
BEGIN:VTIMEZONE
TZID:Europe/Paris
X-LIC-LOCATION:Europe/Paris
BEGIN:DAYLIGHT
DTSTART:20240331T030000
TZOFFSETFROM:+0100
TZOFFSETTO:+0200
TZNAME:CEST
END:DAYLIGHT
END:VTIMEZONE
END:VCALENDAR