BEGIN:VCALENDAR
VERSION:2.0
PRODID:-//wp-events-plugin.com//7.2.3.1//EN
TZID:Europe/Paris
X-WR-TIMEZONE:Europe/Paris
BEGIN:VEVENT
UID:0-33@tech-imago.fr
DTSTART;TZID=Europe/Paris;VALUE=DATE:20241113
DTEND;TZID=Europe/Paris;VALUE=DATE:20241116
DTSTAMP:20240430T125242Z
URL:https://tech-imago.fr/services/agenda/35e-congres-de-la-societe-franca
 ise-de-radiotherapie-oncologique-sfro/
SUMMARY:35e congrès de la Société française de radiothérapie oncologiq
 ue (SFRO)
DESCRIPTION:Le 35e congrès de la Société française de radiothérapie on
 cologique (SFRO) aura lieu du 13 au 15 Novembre 2024 au CNIT. Les inscript
 ions sont ouvertes. 
CATEGORIES:Congrès
END:VEVENT
BEGIN:VTIMEZONE
TZID:Europe/Paris
X-LIC-LOCATION:Europe/Paris
BEGIN:STANDARD
DTSTART:20241027T020000
TZOFFSETFROM:+0200
TZOFFSETTO:+0100
TZNAME:CET
END:STANDARD
END:VTIMEZONE
END:VCALENDAR