BEGIN:VCALENDAR
VERSION:2.0
PRODID:-//wp-events-plugin.com//7.2.3.1//EN
TZID:Europe/Paris
X-WR-TIMEZONE:Europe/Paris
BEGIN:VEVENT
UID:0-69@tech-imago.fr
DTSTART;TZID=Europe/Paris:20261117T000000
DTEND;TZID=Europe/Paris:20261118T000000
DTSTAMP:20260413T160958Z
URL:https://tech-imago.fr/services/agenda/15emes-rencontres-des-pcr/
SUMMARY:15èmes Rencontres des PCR
DESCRIPTION:Les 15èmes Rencontres des PCR auront lieu les 17 et 18 novembr
 e à Dijon. Renseignements et inscription sur le site de la SFRP.
CATEGORIES:Autres événements
END:VEVENT
BEGIN:VTIMEZONE
TZID:Europe/Paris
X-LIC-LOCATION:Europe/Paris
BEGIN:STANDARD
DTSTART:20261025T020000
TZOFFSETFROM:+0200
TZOFFSETTO:+0100
TZNAME:CET
END:STANDARD
END:VTIMEZONE
END:VCALENDAR